BEGIN:VCALENDAR
VERSION:2.0
PRODID:-//Hyalin//Events//EN
CALSCALE:GREGORIAN
METHOD:PUBLISH
BEGIN:VEVENT
UID:2026-05-01-ichigo-strawberry-popup@hyalin.is
DTSTAMP:20260421T202529Z
DTSTART:20260501T140000Z
DTEND:20260501T180000Z
SUMMARY:Japanese Strawberry Pop-Up with Ichigo
DESCRIPTION:An afternoon pop-up with Ichigo — the Japanese strawberries gro
 wn by iFarm Iceland. Taste the berries at their peak and take home a box wh
 ile supplies last.
LOCATION:Skólavörðustígur 4a\, Reykjavík
END:VEVENT
END:VCALENDAR
