BEGIN:VCALENDAR
VERSION:2.0
PRODID:-//Hyalin//Events//EN
CALSCALE:GREGORIAN
METHOD:PUBLISH
BEGIN:VEVENT
UID:2026-04-24-yuyu-matcha-tasting@hyalin.is
DTSTAMP:20260421T184519Z
DTSTART:20260424T160000Z
DTEND:20260424T180000Z
SUMMARY:Matcha Tasting with Yuyu
DESCRIPTION:An afternoon tasting with Yuyu\, a new Icelandic-Japanese match
 a brand bringing single-origin ceremonial matcha to Reykjavík.
LOCATION:Skólavörðustígur 4a\, Reykjavík
END:VEVENT
END:VCALENDAR
